BEGIN:VCALENDAR
VERSION:2.0
PRODID:-//AWHONN Convention - ECPv6.10.2//NONSGML v1.0//EN
CALSCALE:GREGORIAN
METHOD:PUBLISH
X-ORIGINAL-URL:https://awhonnconvention.org
X-WR-CALDESC:Events for AWHONN Convention
REFRESH-INTERVAL;VALUE=DURATION:PT1H
X-Robots-Tag:noindex
X-PUBLISHED-TTL:PT1H
BEGIN:VTIMEZONE
TZID:UTC
BEGIN:STANDARD
TZOFFSETFROM:+0000
TZOFFSETTO:+0000
TZNAME:UTC
DTSTART:20260101T000000
END:STANDARD
END:VTIMEZONE
BEGIN:VEVENT
DTSTART;TZID=UTC:20260607T113000
DTEND;TZID=UTC:20260607T130000
DTSTAMP:20260424T195400
CREATED:20251106T164827Z
LAST-MODIFIED:20251112T215914Z
UID:1152-1780831800-1780837200@awhonnconvention.org
SUMMARY:President's Address & Opening Keynote
DESCRIPTION:Chaunté Lowe\, 4-Time Olympian\, Author\, TEDx Speaker\, Breast Cancer Thriver\nIf there’s an art to facing obstacles and coming out on top\, Chaunté Lowe takes the Gold!\nThe world-renowned high jumper lives to conquer barriers\, racking up 4 Olympic Games Appearances\, 3 Global Championship medals\, 3 American records\, and several global accolades. Many are surprised to learn that she achieved most of these accomplishments while also holding the title of “mother of three.” \nHer performances on the field have earned her inductions into three separate halls of fame and four separate invitations to be honored at the White House by several US Presidents. Lowe\, a world-renowned resilience speaker\, has been featured in numerous publications\, including The New York Times\, Huffington Post\, Vogue\, Glamour\, Essence\, and Sports Illustrated.
URL:https://awhonnconvention.org/event/presidents-address-opening-keynote/
CATEGORIES:General Sessions
ATTACH;FMTTYPE=image/jpeg:https://awhonnconvention.org/wp-content/uploads/2025/11/Lowe-Chaunte-1-scaled.jpeg
END:VEVENT
END:VCALENDAR