BEGIN:VCALENDAR
VERSION:2.0
PRODID:-//AWHONN Convention - ECPv6.10.2//NONSGML v1.0//EN
CALSCALE:GREGORIAN
METHOD:PUBLISH
X-ORIGINAL-URL:https://awhonnconvention.org
X-WR-CALDESC:Events for AWHONN Convention
REFRESH-INTERVAL;VALUE=DURATION:PT1H
X-Robots-Tag:noindex
X-PUBLISHED-TTL:PT1H
BEGIN:VTIMEZONE
TZID:UTC
BEGIN:STANDARD
TZOFFSETFROM:+0000
TZOFFSETTO:+0000
TZNAME:UTC
DTSTART:20260101T000000
END:STANDARD
END:VTIMEZONE
BEGIN:VEVENT
DTSTART;TZID=UTC:20260609T083000
DTEND;TZID=UTC:20260609T094500
DTSTAMP:20260424T195917
CREATED:20251106T190910Z
LAST-MODIFIED:20251120T222712Z
UID:1179-1780993800-1780998300@awhonnconvention.org
SUMMARY:CE5M/T: Policy\, & The Power of a Personal Story
DESCRIPTION:June 8\, 2026 @ 3:00 pm - 4:15 pm \nJune 9\, 2026 @ 8:30 am – 9:45am \nPresenter: Danielle Pendergrass \nThis session will explore the intersection of nursing and policy with a focus on issues affecting patients in rural communities. Participants will examine critical topics such as access to care\, emerging trends in telehealth\, the implications of changes under HR 1\, and practical strategies\, rooted in personal storytelling\, to close care gaps and improve health outcomes in marginalized and under-resourced communities. \n 
URL:https://awhonnconvention.org/event/ce5m-professional-issues-2/
CATEGORIES:Nursing Excellence
ATTACH;FMTTYPE=image/jpeg:https://awhonnconvention.org/wp-content/uploads/2025/11/Danielle-Pendergrass-Headshot.jpeg
END:VEVENT
BEGIN:VEVENT
DTSTART;TZID=UTC:20260609T161500
DTEND;TZID=UTC:20260609T173000
DTSTAMP:20260424T195917
CREATED:20251110T231527Z
LAST-MODIFIED:20251120T222547Z
UID:1231-1781021700-1781026200@awhonnconvention.org
SUMMARY:Closing Keynote - The Power of Kindness and Resilience
DESCRIPTION:Kath Koschel\, Founder\, Kindness Factory; Resilience Expert\nA testament to the power of the human spirit\, Kath Koschel is a survivor who has overcome incredible odds and unimaginable tragedy to inspire ordinary people to do extraordinary things. Koschel is formerly an elite cricketer and Ironman competitor whose world came crashing down when she broke her back twice in the span of five years and was told she’d never walk again. Instead\, she faced the challenges head-on and defied all medical prognoses by teaching herself to walk again on three separate occasions. Driven by a passion to spread gratitude in the world\, she founded Kindness Factory with the goal of encouraging one million acts of kindness and helping people find the light during dark times — just as she has done so many times.
URL:https://awhonnconvention.org/event/closing-keynote-the-power-of-kindness-and-resilience/
CATEGORIES:General Sessions
ATTACH;FMTTYPE=image/jpeg:https://awhonnconvention.org/wp-content/uploads/2025/11/Koschel_Kath_.jpg
END:VEVENT
BEGIN:VEVENT
DTSTART;TZID=UTC:20260609T203000
DTEND;TZID=UTC:20260609T223000
DTSTAMP:20260424T195917
CREATED:20260406T155422Z
LAST-MODIFIED:20260406T155422Z
UID:1382-1781037000-1781044200@awhonnconvention.org
SUMMARY:Race Day: The President’s Party
DESCRIPTION:Start your engines and join us for this year’s President’s Party\, inspired by the legendary Indianapolis Motor Speedway. Celebrate with colleagues and friends in a high-energy Race Day atmosphere featuring festive décor\, music\, and plenty of opportunities to connect and unwind after a full day of convention activities. \nWhether you come dressed in your favorite race-day attire\, team colors\, or classic derby-inspired style\, you’ll be part of a night that’s all about speed\, spirit\, and celebration. This is the perfect chance to enjoy the camaraderie of the AWHONN community as we race toward an exciting future together.
URL:https://awhonnconvention.org/event/race-day-the-presidents-party/
CATEGORIES:Special events
ATTACH;FMTTYPE=image/png:https://awhonnconvention.org/wp-content/uploads/2026/04/racing-theme.png
END:VEVENT
END:VCALENDAR