BEGIN:VCALENDAR
VERSION:2.0
PRODID:-//AWHONN Convention - ECPv6.10.2//NONSGML v1.0//EN
CALSCALE:GREGORIAN
METHOD:PUBLISH
X-ORIGINAL-URL:https://awhonnconvention.org
X-WR-CALDESC:Events for AWHONN Convention
REFRESH-INTERVAL;VALUE=DURATION:PT1H
X-Robots-Tag:noindex
X-PUBLISHED-TTL:PT1H
BEGIN:VTIMEZONE
TZID:UTC
BEGIN:STANDARD
TZOFFSETFROM:+0000
TZOFFSETTO:+0000
TZNAME:UTC
DTSTART:20260101T000000
END:STANDARD
END:VTIMEZONE
BEGIN:VEVENT
DTSTART;TZID=UTC:20260608T150000
DTEND;TZID=UTC:20260608T161500
DTSTAMP:20260420T093047
CREATED:20251106T170219Z
LAST-MODIFIED:20251117T133825Z
UID:1155-1780930800-1780935300@awhonnconvention.org
SUMMARY:CE1M: Spectrum of Care for Placenta Accreta Spectrum (PAS)
DESCRIPTION:June 8\, 2026 @ 3:00 pm - 4:15 pm \nJune 9\, 2026 @ 8:30 am – 9:45am \nPresenter: Dr. Karin Fox \nPlacenta Accreta Spectrum (PAS) involves abnormal placental attachment\, requiring a multidisciplinary\, regionalized care approach. Nurses play a vital role in supporting patients and families. Ongoing simulation and education strengthen team readiness\, ensuring safe\, coordinated care and improved outcomes for those affected by this complex obstetric condition. \n 
URL:https://awhonnconvention.org/event/ce1m-spectrum-of-care-for-placenta-accreta-spectrum-pas/
CATEGORIES:Nursing Excellence
ATTACH;FMTTYPE=image/jpeg:https://awhonnconvention.org/wp-content/uploads/2025/11/Fox-headshot.jpg
END:VEVENT
BEGIN:VEVENT
DTSTART;TZID=UTC:20260608T150000
DTEND;TZID=UTC:20260608T161500
DTSTAMP:20260420T093047
CREATED:20251106T170541Z
LAST-MODIFIED:20251117T133801Z
UID:1158-1780930800-1780935300@awhonnconvention.org
SUMMARY:CE3M - High Tech v. Human Tech impact on Teamwork and Team Performance in Neonatal Resuscitation
DESCRIPTION:June 8\, 2026 @ 3:00 pm - 4:15 pm \nJune 9\, 2026 @ 8:30 am – 9:45am \nPresenter: Nathan Sundgren \nThe talk explores the interplay between human factors and technological tools in neonatal resuscitation\, drawing on research\, simulation-based studies\, and neonatal resuscitation guidelines. It highlights the importance of teamwork behaviors to enhance resuscitation outcomes. The presentation also examines the impact of team size\, decision support tools\, and standardized protocols while addressing challenges like noncompliance and errors in high-stakes resuscitation scenarios. \n 
URL:https://awhonnconvention.org/event/ce3m-high-tech-v-human-tech-impact-on-teamwork-and-team-performance-in-neonatal-resuscitation/
CATEGORIES:Nursing Excellence
ATTACH;FMTTYPE=image/jpeg:https://awhonnconvention.org/wp-content/uploads/2025/11/Nathan-Sundgren.jpg
END:VEVENT
BEGIN:VEVENT
DTSTART;TZID=UTC:20260608T150000
DTEND;TZID=UTC:20260608T161500
DTSTAMP:20260420T093047
CREATED:20251106T171822Z
LAST-MODIFIED:20251117T133736Z
UID:1161-1780930800-1780935300@awhonnconvention.org
SUMMARY:CE6M: Measuring the Impact of Change
DESCRIPTION:June 8\, 2026 @ 3:00 pm - 4:15 pm \nJune 9\, 2026 @ 8:30 am – 9:45am \nPresenter: Cathleen Opperman \nAs we navigate constant updates\, new technologies\, shifting policies and evolving patient needs\, CHANGE is constant. How do we measure the value of change initiatives? Come to learn how to determine measurable outcomes appropriate to the planned change. Whether they are patient\, employee\, organizational and/or economic outcomes\, they demonstrate the impact of change. \n 
URL:https://awhonnconvention.org/event/ce6m-measuring-the-impact-of-change/
CATEGORIES:Nursing Excellence
ATTACH;FMTTYPE=image/jpeg:https://awhonnconvention.org/wp-content/uploads/2025/11/Cathleen-Opperman_headshot.jpg
END:VEVENT
BEGIN:VEVENT
DTSTART;TZID=UTC:20260608T150000
DTEND;TZID=UTC:20260608T161500
DTSTAMP:20260420T093047
CREATED:20251106T174252Z
LAST-MODIFIED:20251120T223007Z
UID:1166-1780930800-1780935300@awhonnconvention.org
SUMMARY:CE4M: Reproductive Justice in Nursing: Beyond Health and Rights
DESCRIPTION:June 8\, 2026 @ 3:00 pm - 4:15 pm \nJune 9\, 2026 @ 8:30 am – 9:45am \nPresenter: Joia Crear-Perry \nExplore the origins and meaning of reproductive justice\, distinguishing it from reproductive health and reproductive rights. This session highlights its relevance to nursing practice and calls nurses to action as advocates for equity. Learn how to integrate justice principles into care\, education\, and policy to advance inclusive\, patient-centered reproductive health. \n 
URL:https://awhonnconvention.org/event/ce4m-reproductive-justice-in-nursing-beyond-health-and-rights/
CATEGORIES:Nursing Excellence
ATTACH;FMTTYPE=image/png:https://awhonnconvention.org/wp-content/uploads/2025/11/Joia-Crear-Perry-headshot.png
END:VEVENT
BEGIN:VEVENT
DTSTART;TZID=UTC:20260608T150000
DTEND;TZID=UTC:20260608T161500
DTSTAMP:20260420T093047
CREATED:20251106T190129Z
LAST-MODIFIED:20260324T142742Z
UID:1175-1780930800-1780935300@awhonnconvention.org
SUMMARY:CE2M: The NEST Approach: Remote Nurse Led EFM
DESCRIPTION:June 8\, 2026 @ 3:00 pm - 4:15 pm \nJune 9\, 2026 @ 8:30 am – 9:45am \nPresenters: Lisa Miller\, Cristina Haas\, Crystal Hicks \nExplore how the NEST approach revolutionizes virtual electronic fetal monitoring (EFM) interpretation and management. This session addresses development challenges\, integration strategies\, and core components for establishing a virtual nursing center. Learn how this innovative model enhances collaboration and improves neonatal outcomes through timely\, expert-driven EFM oversight. \n 
URL:https://awhonnconvention.org/event/ce2m-the-nest-approach-remote-nurse-led-efm/
CATEGORIES:Nursing Excellence
ATTACH;FMTTYPE=image/png:https://awhonnconvention.org/wp-content/uploads/2025/11/hicks-haas-miller-1.png
END:VEVENT
BEGIN:VEVENT
DTSTART;TZID=UTC:20260609T083000
DTEND;TZID=UTC:20260609T094500
DTSTAMP:20260420T093047
CREATED:20251106T190910Z
LAST-MODIFIED:20251120T222712Z
UID:1179-1780993800-1780998300@awhonnconvention.org
SUMMARY:CE5M/T: Policy\, & The Power of a Personal Story
DESCRIPTION:June 8\, 2026 @ 3:00 pm - 4:15 pm \nJune 9\, 2026 @ 8:30 am – 9:45am \nPresenter: Danielle Pendergrass \nThis session will explore the intersection of nursing and policy with a focus on issues affecting patients in rural communities. Participants will examine critical topics such as access to care\, emerging trends in telehealth\, the implications of changes under HR 1\, and practical strategies\, rooted in personal storytelling\, to close care gaps and improve health outcomes in marginalized and under-resourced communities. \n 
URL:https://awhonnconvention.org/event/ce5m-professional-issues-2/
CATEGORIES:Nursing Excellence
ATTACH;FMTTYPE=image/jpeg:https://awhonnconvention.org/wp-content/uploads/2025/11/Danielle-Pendergrass-Headshot.jpeg
END:VEVENT
END:VCALENDAR